BEGIN:VCALENDAR
VERSION:2.0
PRODID:-//Almastral - ECPv6.5.0//NONSGML v1.0//EN
CALSCALE:GREGORIAN
METHOD:PUBLISH
X-WR-CALNAME:Almastral
X-ORIGINAL-URL:http://54.242.27.164
X-WR-CALDESC:Eventos para Almastral
REFRESH-INTERVAL;VALUE=DURATION:PT1H
X-Robots-Tag:noindex
X-PUBLISHED-TTL:PT1H
BEGIN:VTIMEZONE
TZID:Asia/Dubai
BEGIN:STANDARD
TZOFFSETFROM:+0400
TZOFFSETTO:+0400
TZNAME:+04
DTSTART:20240101T000000
END:STANDARD
END:VTIMEZONE
BEGIN:VEVENT
DTSTART;TZID=Asia/Dubai:20240407T140000
DTEND;TZID=Asia/Dubai:20240407T150000
DTSTAMP:20260424T085752
CREATED:20240327T185422Z
LAST-MODIFIED:20240327T185656Z
UID:21981-1712498400-1712502000@54.242.27.164
SUMMARY:Seminario: Influencia del Eclipse Solar en Aries
DESCRIPTION:Conexión desde Zoom en vivo desde la zona cero del Eclipse hablando de la influencia que tendrá este eclipse en nuestras vidas. Aplicación de radiónica para todos los participantes. Debes enviar con claridad la intención que desease manifestar utilizando la energía del Eclipse. Sesión de Meditación y recomendaciones para todos los signos. Tendremos un tiempo de preguntas y respuestas al final del seminario. ¡Te esperamos!
URL:http://54.242.27.164/event/seminario-eclipse/
CATEGORIES:Tarot
ATTACH;FMTTYPE=image/jpeg:http://54.242.27.164/wp-content/uploads/2020/04/image-5.jpg
ORGANIZER;CN="Karla Monrive":MAILTO:info@almastral.com
END:VEVENT
END:VCALENDAR