BEGIN:VCALENDAR
VERSION:2.0
PRODID:-//Almastral - ECPv6.5.0//NONSGML v1.0//EN
CALSCALE:GREGORIAN
METHOD:PUBLISH
X-ORIGINAL-URL:http://54.242.27.164
X-WR-CALDESC:Eventos para Almastral
REFRESH-INTERVAL;VALUE=DURATION:PT1H
X-Robots-Tag:noindex
X-PUBLISHED-TTL:PT1H
BEGIN:VTIMEZONE
TZID:UTC
BEGIN:STANDARD
TZOFFSETFROM:+0000
TZOFFSETTO:+0000
TZNAME:UTC
DTSTART:20240101T000000
END:STANDARD
TZID:America/New_York
BEGIN:DAYLIGHT
TZOFFSETFROM:-0500
TZOFFSETTO:-0400
TZNAME:EDT
DTSTART:20240310T070000
END:DAYLIGHT
BEGIN:STANDARD
TZOFFSETFROM:-0400
TZOFFSETTO:-0500
TZNAME:EST
DTSTART:20241103T060000
END:STANDARD
END:VTIMEZONE
BEGIN:VEVENT
DTSTART;TZID=UTC:20240101T100000
DTEND;TZID=UTC:20240101T163000
DTSTAMP:20260424T072208
CREATED:20240101T185723Z
LAST-MODIFIED:20240109T030004Z
UID:1210-1704103200-1704126600@54.242.27.164
SUMMARY:Masterclass: A Modern Intuitive Tarot Reading
DESCRIPTION:To Be Announced.
URL:http://54.242.27.164/event/masterclass-a-modern-intuitive-tarot-reading/
CATEGORIES:Tarot
ATTACH;FMTTYPE=image/jpeg:http://54.242.27.164/wp-content/uploads/2020/04/image-3.jpg
END:VEVENT
BEGIN:VEVENT
DTSTART;TZID=UTC:20240101T110000
DTEND;TZID=UTC:20240101T170000
DTSTAMP:20260424T072208
CREATED:20240108T190044Z
LAST-MODIFIED:20240109T030803Z
UID:1213-1704106800-1704128400@54.242.27.164
SUMMARY:Tarot Reading Party: Spreads for Love & Relationships
DESCRIPTION:To Be Announced
URL:http://54.242.27.164/event/tarot-reading-party-spreads-for-love-relationships/
CATEGORIES:Tarot
ATTACH;FMTTYPE=image/jpeg:http://54.242.27.164/wp-content/uploads/2020/04/image-4.jpg
END:VEVENT
BEGIN:VEVENT
DTSTART;TZID=UTC:20240101T190000
DTEND;TZID=UTC:20240101T200000
DTSTAMP:20260424T072208
CREATED:20200428T172928Z
LAST-MODIFIED:20240109T025754Z
UID:1202-1704135600-1704139200@54.242.27.164
SUMMARY:Masterclass: The Mystical Powers of Gemstones and Minerals
DESCRIPTION:To Be Announced \nIncludes a collection of 21 crystals\, shipping by USPS or Amazon.
URL:http://54.242.27.164/event/masterclass-the-mystical-powers-of-gemstones-and-minerals/
CATEGORIES:Astrology
ATTACH;FMTTYPE=image/jpeg:http://54.242.27.164/wp-content/uploads/2020/04/image-38.jpg
END:VEVENT
BEGIN:VEVENT
DTSTART;TZID=UTC:20240121T190000
DTEND;TZID=UTC:20240121T203000
DTSTAMP:20260424T072208
CREATED:20240101T182832Z
LAST-MODIFIED:20240109T024857Z
UID:1200-1705863600-1705869000@54.242.27.164
SUMMARY:Masterclass: Find Out Your Destiny
DESCRIPTION:We have an annual commitment to review the year’s astrological calendar and decipher the meaning of the language of the stars for us. You will receive the Astrological Agenda Astral Plan 2024.
URL:http://54.242.27.164/event/masterclass-find-out-your-destiny/
CATEGORIES:Astrology
ATTACH;FMTTYPE=image/jpeg:http://54.242.27.164/wp-content/uploads/2020/04/image-37.jpg
END:VEVENT
BEGIN:VEVENT
DTSTART;TZID=America/New_York:20240129T210000
DTEND;TZID=America/New_York:20240129T213000
DTSTAMP:20260424T072208
CREATED:20240109T023320Z
LAST-MODIFIED:20240127T183523Z
UID:21556-1706562000-1706563800@54.242.27.164
SUMMARY:Mini Consultas de Tarot en Vivo
DESCRIPTION:Los días Lunes a las 9 de la noche se realizarán mini consultas en vivo a través de los canales y redes sociales de Almastral. Síguenos a través de Instagram @almastral y en el canal de YouTube Karla-Monrivé-Almastral. Algunas excepciones aplican en ciertas fechas del año. Deben enviarse el Nombre\, Signo Zodiacal\, Lugar desde donde escriben\, y pregunta específica al Tarot. \nPor favor\, activa JavaScript en tu navegador para completar este formulario.Por favor\, activa JavaScript en tu navegador para completar este formulario.Nombre *NombreApellidosEmail *Comentario o MensajeEnviar
URL:http://54.242.27.164/event/mini-consultas-de-tarot-en-vivo/
CATEGORIES:Astrology
ATTACH;FMTTYPE=image/jpeg:http://54.242.27.164/wp-content/uploads/2020/05/3-radio.jpg
END:VEVENT
END:VCALENDAR